BEGIN:VCALENDAR
VERSION:2.0
PRODID:-//Ev.-Luth. Taborkirchgemeinde in Leipzig-Kleinzschocher - ECPv6.15.20//NONSGML v1.0//EN
CALSCALE:GREGORIAN
METHOD:PUBLISH
X-WR-CALNAME:Ev.-Luth. Taborkirchgemeinde in Leipzig-Kleinzschocher
X-ORIGINAL-URL:https://www.taborkirche.de
X-WR-CALDESC:Veranstaltungen für Ev.-Luth. Taborkirchgemeinde in Leipzig-Kleinzschocher
REFRESH-INTERVAL;VALUE=DURATION:PT1H
X-Robots-Tag:noindex
X-PUBLISHED-TTL:PT1H
BEGIN:VTIMEZONE
TZID:Europe/Berlin
BEGIN:DAYLIGHT
TZOFFSETFROM:+0100
TZOFFSETTO:+0200
TZNAME:CEST
DTSTART:20250330T010000
END:DAYLIGHT
BEGIN:STANDARD
TZOFFSETFROM:+0200
TZOFFSETTO:+0100
TZNAME:CET
DTSTART:20251026T010000
END:STANDARD
BEGIN:DAYLIGHT
TZOFFSETFROM:+0100
TZOFFSETTO:+0200
TZNAME:CEST
DTSTART:20260329T010000
END:DAYLIGHT
BEGIN:STANDARD
TZOFFSETFROM:+0200
TZOFFSETTO:+0100
TZNAME:CET
DTSTART:20261025T010000
END:STANDARD
BEGIN:DAYLIGHT
TZOFFSETFROM:+0100
TZOFFSETTO:+0200
TZNAME:CEST
DTSTART:20270328T010000
END:DAYLIGHT
BEGIN:STANDARD
TZOFFSETFROM:+0200
TZOFFSETTO:+0100
TZNAME:CET
DTSTART:20271031T010000
END:STANDARD
END:VTIMEZONE
BEGIN:VEVENT
DTSTART;TZID=Europe/Berlin:20260419T093000
DTEND;TZID=Europe/Berlin:20260419T110000
DTSTAMP:20260421T105747
CREATED:20260320T092016Z
LAST-MODIFIED:20260320T092016Z
UID:18668-1776591000-1776596400@www.taborkirche.de
SUMMARY:Familiengottesdienst mit Tauferinnerung und Einführung Judith Hübel in der Heilandskirche
DESCRIPTION:Kita-Team\, Pfarrerin von Ulmenstein\, Pfarrer Staemmler-Michael\nim Anschluss Mittagessen mit Speisen aus dem Reich Gottes
URL:https://www.taborkirche.de/veranstaltungen/familiengottesdienst-mit-tauferinnerung-und-einfuehrung-judith-huebel-in-der-heilandskirche/
LOCATION:Heilandskirche/Westkreuz in Leipzig-Plagwitz\, Weißenfelser Str. 16\, Leipzig\, 04229
END:VEVENT
END:VCALENDAR